BEGIN:VCALENDAR
VERSION:2.0
PRODID:-//Muziek Centrum Hoorn - ECPv6.15.5//NONSGML v1.0//EN
CALSCALE:GREGORIAN
METHOD:PUBLISH
X-ORIGINAL-URL:https://muziekcentrumhoorn.nl
X-WR-CALDESC:Evenementen voor Muziek Centrum Hoorn
REFRESH-INTERVAL;VALUE=DURATION:PT1H
X-Robots-Tag:noindex
X-PUBLISHED-TTL:PT1H
BEGIN:VTIMEZONE
TZID:Europe/Amsterdam
BEGIN:DAYLIGHT
TZOFFSETFROM:+0100
TZOFFSETTO:+0200
TZNAME:CEST
DTSTART:20160327T010000
END:DAYLIGHT
BEGIN:STANDARD
TZOFFSETFROM:+0200
TZOFFSETTO:+0100
TZNAME:CET
DTSTART:20161030T010000
END:STANDARD
END:VTIMEZONE
BEGIN:VEVENT
DTSTART;TZID=Europe/Amsterdam:20161030T150000
DTEND;TZID=Europe/Amsterdam:20161030T170000
DTSTAMP:20260423T181824
CREATED:20161028T105824Z
LAST-MODIFIED:20161028T105913Z
UID:208-1477839600-1477846800@muziekcentrumhoorn.nl
SUMMARY:Opening Muziek Centrum Hoorn
DESCRIPTION:Zondag 30 oktober geven leerlingen van Muziek Centrum Hoorn een optreden met een Halloween tintje bij poppodium Manifesto in Hoorn. Deze middag in tevens de officiële opening van het muziek centrum. \nMuziek Centrum Hoorn is in mei 2016 ontstaan nadat zowel het bekende Mupo als Stichting Pop Hoorn ophielden met de lesruimtes en de daar werkzame docenten. Jerney Molenaar\, George Vlaar en Sven Bakker sloegen de handen in een en besloten hun energie en ervaring te bundelen. Allen zijn al geruime tijd afgestudeerd aan het conservatorium en hebben meer dan 10 jaar ervaring met het geven van muziekles. Bij Muziek Centrum Hoorn kun je terecht voor zangles\, gitaarles\, basgitaarles en drumles. De lessen worden gegeven in Manifesto. \nDe leerlingen zullen deze middag laten zien wat ze kunnen en het publiek vermaken met een heerlijk uurtje muzikaal griezelen. Kijk voor meer informatie over de muzieklessen op www.muziekcentrumhoorn.nl. Het concert in Manifesto (Holenweg 14c) begint om 15:00 en de entree is slechts 2 euro.
URL:https://muziekcentrumhoorn.nl/evenement/opening-muziek-centrum-hoorn/
LOCATION:Muziek Centrum Hoorn\, Holenweg 14c\, Hoorn\, 1624PB
END:VEVENT
BEGIN:VEVENT
DTSTART;VALUE=DATE:20161017
DTEND;VALUE=DATE:20161024
DTSTAMP:20260423T181824
CREATED:20161003T091841Z
LAST-MODIFIED:20161003T091841Z
UID:106-1476662400-1477267199@muziekcentrumhoorn.nl
SUMMARY:Herfstvakantie
DESCRIPTION:
URL:https://muziekcentrumhoorn.nl/evenement/herfstvakantie/
END:VEVENT
END:VCALENDAR